BEGIN:VCALENDAR
VERSION:2.0
PRODID:-//SpLinter Group - ECPv6.15.20//NONSGML v1.0//EN
CALSCALE:GREGORIAN
METHOD:PUBLISH
X-ORIGINAL-URL:https://splintergroup.org.uk
X-WR-CALDESC:Events for SpLinter Group
REFRESH-INTERVAL;VALUE=DURATION:PT1H
X-Robots-Tag:noindex
X-PUBLISHED-TTL:PT1H
BEGIN:VTIMEZONE
TZID:UTC
BEGIN:STANDARD
TZOFFSETFROM:+0000
TZOFFSETTO:+0000
TZNAME:UTC
DTSTART:20250101T000000
END:STANDARD
END:VTIMEZONE
BEGIN:VEVENT
DTSTART;TZID=UTC:20260424T170000
DTEND;TZID=UTC:20260424T190000
DTSTAMP:20260420T114016
CREATED:20260120T115613Z
LAST-MODIFIED:20260120T120141Z
UID:3377-1777050000-1777057200@splintergroup.org.uk
SUMMARY:New for 2026: Art classes with Create A Space
DESCRIPTION:On Friday 24th April\, Create A Space is running an art class for neurodiverse young adults aged 16-25 which is part of their program to offer weekly art sessions at the Golden Square Community Hub in Berwick. Each session will take place every Friday between 5-7pm. \nLocation: Golden Square Community Hub \nTime: 5-7pm \nDate: Friday 24th April \nPlease find further information in the flier below:
URL:https://splintergroup.org.uk/event/3377/
LOCATION:Golden Square Community Hub\, 8 Golden Square\, Berwick Upon Tweed\, Northumberland\, TD15 1BG
CATEGORIES:Social get together,Weekly Events,Wellbeing,Workshop
END:VEVENT
BEGIN:VEVENT
DTSTART;TZID=UTC:20260424T170000
DTEND;TZID=UTC:20260424T200000
DTSTAMP:20260420T114016
CREATED:20260415T165543Z
LAST-MODIFIED:20260415T165707Z
UID:3571-1777050000-1777060800@splintergroup.org.uk
SUMMARY:SpLinter Monthly Social –  Hexham
DESCRIPTION:On Friday\, 24th April come and join our next SpLinter social evening at Adapt NE in Hexham from 5pm till 8pm. We will be playing some games\, doing a quiz\, listening to music and sharing some food. Everyone welcome. If you are interested we have personalised travel support to help you get there and back!  If you need any more info just ring 07775 817544. \nPlease find further information in the flier below. We look forward to seeing you there 🙂 \nDate: Friday\, 24th April \nTime: 5-8pm \nLocation: Adapt NE (Hexham) \n \n 
URL:https://splintergroup.org.uk/event/splinter-monthly-social-hexham/
LOCATION:Adapt NE\, Burn Ln\, Hexham\, Northumberland\, NE46 3HN\, United Kingdom
CATEGORIES:Board games,Monthly Social,Social get together,Song quest,Splinter Group Team,Video Gaming,Wellbeing
END:VEVENT
END:VCALENDAR