BEGIN:VCALENDAR
VERSION:2.0
PRODID:-//SpLinter Group - ECPv6.15.20//NONSGML v1.0//EN
CALSCALE:GREGORIAN
METHOD:PUBLISH
X-ORIGINAL-URL:https://splintergroup.org.uk
X-WR-CALDESC:Events for SpLinter Group
REFRESH-INTERVAL;VALUE=DURATION:PT1H
X-Robots-Tag:noindex
X-PUBLISHED-TTL:PT1H
BEGIN:VTIMEZONE
TZID:UTC
BEGIN:STANDARD
TZOFFSETFROM:+0000
TZOFFSETTO:+0000
TZNAME:UTC
DTSTART:20250101T000000
END:STANDARD
END:VTIMEZONE
BEGIN:VEVENT
DTSTART;TZID=UTC:20260402T100000
DTEND;TZID=UTC:20260402T230000
DTSTAMP:20260420T131953
CREATED:20260126T180651Z
LAST-MODIFIED:20260126T180651Z
UID:3421-1775124000-1775170800@splintergroup.org.uk
SUMMARY:Embracing Emotions @ Northumberland Recovery College
DESCRIPTION:On Thursday\, 2nd April the Northumberland Recovering College (NRC) is running a 8-week DBT skills course called Embracing Emotions. This week individuals will learn learn how to cope ahead along with discovering practical strategies to support them. During this course individuals will learn how to understand their emotions along with finding out practical strategies which will help them to manage their emotions more effectively. These sessions are free and available to anyone aged 18+ who lives or works in Northumberland. If you are interested please fill out the  NRC Referral Form here. \nLocation: Online \nTime: 10 – 11am \nPlease find further further information in the flier below:
URL:https://splintergroup.org.uk/event/embracing-emotions-northumberland-recovery-college-4/
LOCATION:Online
CATEGORIES:Online get-together,Wellbeing,Workshop
END:VEVENT
END:VCALENDAR