BEGIN:VCALENDAR
VERSION:2.0
PRODID:-//SpLinter Group - ECPv6.15.20//NONSGML v1.0//EN
CALSCALE:GREGORIAN
METHOD:PUBLISH
X-WR-CALNAME:SpLinter Group
X-ORIGINAL-URL:https://splintergroup.org.uk
X-WR-CALDESC:Events for SpLinter Group
REFRESH-INTERVAL;VALUE=DURATION:PT1H
X-Robots-Tag:noindex
X-PUBLISHED-TTL:PT1H
BEGIN:VTIMEZONE
TZID:UTC
BEGIN:STANDARD
TZOFFSETFROM:+0000
TZOFFSETTO:+0000
TZNAME:UTC
DTSTART:20250101T000000
END:STANDARD
END:VTIMEZONE
BEGIN:VEVENT
DTSTART;TZID=UTC:20260313T170000
DTEND;TZID=UTC:20260313T190000
DTSTAMP:20260420T145345
CREATED:20260120T114826Z
LAST-MODIFIED:20260120T114858Z
UID:3370-1773421200-1773428400@splintergroup.org.uk
SUMMARY:New for 2026: Art classes with Create A Space
DESCRIPTION:On Friday 13th March\, Create A Space is running an art class for neurodiverse young adults aged 16-25 which is part of their program to offer weekly art sessions at the Golden Square Community Hub in Berwick. Each session will take place every Friday between 5-7pm. \nLocation: Golden Square Community Hub \nTime: 5-7pm \nDate: Friday 13th March \nPlease find further information in the flier below:
URL:https://splintergroup.org.uk/event/3370/
LOCATION:Golden Square Community Hub\, 8 Golden Square\, Berwick Upon Tweed\, Northumberland\, TD15 1BG
CATEGORIES:Social get together,Weekly Events,Wellbeing,Workshop
END:VEVENT
END:VCALENDAR