BEGIN:VCALENDAR
VERSION:2.0
PRODID:-//SpLinter Group - ECPv6.15.20//NONSGML v1.0//EN
CALSCALE:GREGORIAN
METHOD:PUBLISH
X-ORIGINAL-URL:https://splintergroup.org.uk
X-WR-CALDESC:Events for SpLinter Group
REFRESH-INTERVAL;VALUE=DURATION:PT1H
X-Robots-Tag:noindex
X-PUBLISHED-TTL:PT1H
BEGIN:VTIMEZONE
TZID:UTC
BEGIN:STANDARD
TZOFFSETFROM:+0000
TZOFFSETTO:+0000
TZNAME:UTC
DTSTART:20250101T000000
END:STANDARD
END:VTIMEZONE
BEGIN:VEVENT
DTSTART;TZID=UTC:20260310T120000
DTEND;TZID=UTC:20260310T130000
DTSTAMP:20260422T143158
CREATED:20260309T125909Z
LAST-MODIFIED:20260316T123531Z
UID:3472-1773144000-1773147600@splintergroup.org.uk
SUMMARY:** Gentle Sports Session with Smile Through Sports
DESCRIPTION:On Tuesday\, 10th March join us at the Lindisfarne Centre (Alnwick) for a gentle sports session with Smile Through Sport. Each session will involve easy activities like bowling\, curling and boccia straight from your chair. These sessions will take place fortnightly starting from this week. We hope to see you there! Please find further information below in the flier. \nTime: 12 – 1pm \nLocation: Lindisfarne Centre (Alnwick) \nDate: Tuesday\, 10th March \n 
URL:https://splintergroup.org.uk/event/gentle-sports-session-with-smile-through-sports/
LOCATION:Lindisfarne Centre\, 30 Lindisfarne Rd\, Alnwick NE66 1AU\, Alnwick\, United Kingdom
CATEGORIES:Fornightly events,Social get together,Wellbeing
END:VEVENT
BEGIN:VEVENT
DTSTART;TZID=UTC:20260327T170000
DTEND;TZID=UTC:20260327T200000
DTSTAMP:20260422T143158
CREATED:20260309T133939Z
LAST-MODIFIED:20260311T115956Z
UID:3476-1774630800-1774641600@splintergroup.org.uk
SUMMARY:SpLinter Monthly Social - Blyth
DESCRIPTION:On Friday\, 27th March come and join our next SpLinter social evening at the Family Hub in Blyth from 5pm till 8pm. We will be playing some games\, doing a quiz\, listening to music and sharing some food. Everyone welcome. You need to make your own way there if you can and we will support you to get home safely. If you need any more info just ring 07775 817544. \nTime: 5-8pm \nLocation: Family Hub (Blyth)
URL:https://splintergroup.org.uk/event/splinter-monthly-social-blyth/
LOCATION:Blyth Family Hub\, 103 Wright Street\, Blyth\, NE24 1HG
CATEGORIES:Board games,Monthly Social,Social get together,SpLinter Group,Wellbeing
END:VEVENT
END:VCALENDAR