BEGIN:VCALENDAR
VERSION:2.0
PRODID:-//SpLinter Group - ECPv6.15.20//NONSGML v1.0//EN
CALSCALE:GREGORIAN
METHOD:PUBLISH
X-ORIGINAL-URL:https://splintergroup.org.uk
X-WR-CALDESC:Events for SpLinter Group
REFRESH-INTERVAL;VALUE=DURATION:PT1H
X-Robots-Tag:noindex
X-PUBLISHED-TTL:PT1H
BEGIN:VTIMEZONE
TZID:UTC
BEGIN:STANDARD
TZOFFSETFROM:+0000
TZOFFSETTO:+0000
TZNAME:UTC
DTSTART:20220101T000000
END:STANDARD
END:VTIMEZONE
BEGIN:VEVENT
DTSTART;TZID=UTC:20260327T170000
DTEND;TZID=UTC:20260327T200000
DTSTAMP:20260424T105527
CREATED:20260309T133939Z
LAST-MODIFIED:20260311T115956Z
UID:3476-1774630800-1774641600@splintergroup.org.uk
SUMMARY:SpLinter Monthly Social - Blyth
DESCRIPTION:On Friday\, 27th March come and join our next SpLinter social evening at the Family Hub in Blyth from 5pm till 8pm. We will be playing some games\, doing a quiz\, listening to music and sharing some food. Everyone welcome. You need to make your own way there if you can and we will support you to get home safely. If you need any more info just ring 07775 817544. \nTime: 5-8pm \nLocation: Family Hub (Blyth)
URL:https://splintergroup.org.uk/event/splinter-monthly-social-blyth/
LOCATION:Blyth Family Hub\, 103 Wright Street\, Blyth\, NE24 1HG
CATEGORIES:Board games,Monthly Social,Social get together,SpLinter Group,Wellbeing
END:VEVENT
BEGIN:VEVENT
DTSTART;TZID=UTC:20260130T170000
DTEND;TZID=UTC:20260130T200000
DTSTAMP:20260424T105527
CREATED:20260126T183330Z
LAST-MODIFIED:20260126T183402Z
UID:3428-1769792400-1769803200@splintergroup.org.uk
SUMMARY:SpLinter Monthly Social - Cramlington
DESCRIPTION:On Friday\, 30th January come and join our next SpLinter social evening at Northern Butterflies in Manor Walks from 5pm till 8pm. We will be playing some games\, doing a quiz\, listening to music and sharing some food. Everyone welcome. You need to make your own way there if you can and we will support you to get home safely. If you need any more info just ring 07775 817544. \nTime: 5-8pm \nLocation: Northern Butterflies (the entrance is inside Manor Walks next to Cramlington Town Council Offices)
URL:https://splintergroup.org.uk/event/3428/
LOCATION:Northern Butterflies\, 1st Floor\, 29-30\, Northumberland\, Cramlington\, NE23 6QE\, United Kingdom
CATEGORIES:Board games,Monthly Social,Quiz,Social get together,SpLinter Group
END:VEVENT
BEGIN:VEVENT
DTSTART;TZID=UTC:20251207T183000
DTEND;TZID=UTC:20251207T200000
DTSTAMP:20260424T105527
CREATED:20251110T124648Z
LAST-MODIFIED:20251110T124648Z
UID:3269-1765132200-1765137600@splintergroup.org.uk
SUMMARY:Sunday Nights Online
DESCRIPTION:Every week on Sundays there’s an online games and quiz night\, and we also use the time to remind ourselves what else is coming up too. \nEveryone is welcome\, just text 07775 817544 if you want to join and we’ll share the Zoom link. \nIt works best of you can have a laptop or tablet available for the Zoom session\, as well as a smart phone\, because we play lots of games using Jackbox TV – https://www.jackbox.tv where you can play it on your phone. When the game starts you’re given a four letter code to join in.
URL:https://splintergroup.org.uk/event/sunday-nights-online-63/
LOCATION:Online
CATEGORIES:Monthly Social,Online get-together
END:VEVENT
BEGIN:VEVENT
DTSTART;TZID=UTC:20251116T183000
DTEND;TZID=UTC:20251116T200000
DTSTAMP:20260424T105527
CREATED:20251013T100451Z
LAST-MODIFIED:20251013T100451Z
UID:3171-1763317800-1763323200@splintergroup.org.uk
SUMMARY:Sunday Nights Online
DESCRIPTION:Every week on Sundays there’s an online games and quiz night\, and we also use the time to remind ourselves what else is coming up too. \nEveryone is welcome\, just text 07775 817544 if you want to join and we’ll share the Zoom link. \nIt works best of you can have a laptop or tablet available for the Zoom session\, as well as a smart phone\, because we play lots of games using Jackbox TV – https://www.jackbox.tv where you can play it on your phone. When the game starts you’re given a four letter code to join in.
URL:https://splintergroup.org.uk/event/sunday-nights-online-58/
LOCATION:Online
CATEGORIES:Monthly Social,Online get-together,Quiz,SpLinter Group,Video Gaming,Weekly Events
END:VEVENT
BEGIN:VEVENT
DTSTART;TZID=UTC:20251017T180000
DTEND;TZID=UTC:20251017T203000
DTSTAMP:20260424T105527
CREATED:20250922T122432Z
LAST-MODIFIED:20250922T122503Z
UID:3125-1760724000-1760733000@splintergroup.org.uk
SUMMARY:SpLinter Halloween Special
DESCRIPTION:SpLinter Group is visiting BrockBush farm this october for a pumpkin picking experience! If you would like to come along and join us for this Halloween special. Please get in touch with us as soon as possible… SpLinter only has ten tickets available for their group members. We look forward to seeing you their pumpkin picking. \nWe hope you have a Spooktacular time 🙂 If you would like further information about BrockBushes pumpkin picking experience please click here.
URL:https://splintergroup.org.uk/event/splinter-halloween-special/
LOCATION:Brockbushes Farm\, Brocksbushes Farm\, Northumberland\, Northumberland\, NE43 7UB
CATEGORIES:Monthly Social,Social get together,SpLinter Group
END:VEVENT
BEGIN:VEVENT
DTSTART;TZID=UTC:20250829T170000
DTEND;TZID=UTC:20250829T200000
DTSTAMP:20260424T105527
CREATED:20250721T085920Z
LAST-MODIFIED:20250721T085920Z
UID:2911-1756486800-1756497600@splintergroup.org.uk
SUMMARY:SpLinter Monthly Social - Berwick
DESCRIPTION:Come and join us from 5pm till 8pm. We will be playing some games\, doing a quiz\, listening to music and sharing some food. Everyone welcome. You need to make your own way there is you can and we will support you to get home safely. If you need any more info just ring 07775 817544. \nLocation: Berwick \nPlease find further information below in the flier.
URL:https://splintergroup.org.uk/event/splinter-monthly-social-berwick/
LOCATION:Border Links and  RISE\, Border Links at the Ramparts\, Berwick - Upon - Tweed\, Northumberland\, United Kingdom
CATEGORIES:Board games,Monthly Social,Social get together
END:VEVENT
BEGIN:VEVENT
DTSTART;TZID=UTC:20250711T180000
DTEND;TZID=UTC:20250711T200000
DTSTAMP:20260424T105527
CREATED:20250606T130105Z
LAST-MODIFIED:20250630T130204Z
UID:2812-1752256800-1752264000@splintergroup.org.uk
SUMMARY:SpLinter Social
DESCRIPTION:Come and join us from 5pm till 8pm. We will be playing some games\, doing a quiz\, listening to music and sharing some food. Everyone welcome. You need to make your own way there is you can and we will support you to get home safely. If you need any more info just ring 07775 817544. \nLocation: Blyth \n 
URL:https://splintergroup.org.uk/event/splinter-social/
LOCATION:Blyth Family Hub\, 103 Wright Street\, Blyth\, NE24 1HG
CATEGORIES:Board games,Monthly Social,Quiz,Social get together,SpLinter Group,Video Gaming
END:VEVENT
BEGIN:VEVENT
DTSTART;TZID=UTC:20250604T170000
DTEND;TZID=UTC:20250604T200000
DTSTAMP:20260424T105527
CREATED:20250519T132530Z
LAST-MODIFIED:20250519T132530Z
UID:2790-1749056400-1749067200@splintergroup.org.uk
SUMMARY:SpLinter Monthly Social - Ashington
DESCRIPTION:Come and join us from 5pm till 8pm. We will be playing some games\, doing a quiz\, listening to music and sharing some food. Everyone welcome. You need to make your own way there is you can and we will support you to get home safely. If you need any more info just ring 07775 817544. \nLocation: Ashington
URL:https://splintergroup.org.uk/event/splinter-monthly-social-ashington/
LOCATION:Ashington YMCA\, North Vw\, Ashington\, Northumberland\, NE63 9XQ\, United Kingdom
CATEGORIES:Board games,Monthly Social,Social get together,SpLinter Group
END:VEVENT
BEGIN:VEVENT
DTSTART;TZID=UTC:20250131T170000
DTEND;TZID=UTC:20250131T200000
DTSTAMP:20260424T105527
CREATED:20250113T133557Z
LAST-MODIFIED:20250113T175245Z
UID:2565-1738342800-1738353600@splintergroup.org.uk
SUMMARY:SpLinter Monthly get together
DESCRIPTION:Come and join us from 5pm till 8pm. We will be playing some games\, doing a quiz\, listening to music and sharing some food. Everyone welcome. You need to make your own way there is you can and we will support you to get home safely. If you need any more info just ring 07775 817544. \nLocation: To Be Confirmed. More details coming soon.
URL:https://splintergroup.org.uk/event/splinter-monthly-get-together-2/
LOCATION:Northumberland
CATEGORIES:Board games,Monthly Social,Quiz,Social get together,SpLinter Group
END:VEVENT
BEGIN:VEVENT
DTSTART;TZID=UTC:20241213T170000
DTEND;TZID=UTC:20241213T200000
DTSTAMP:20260424T105527
CREATED:20241113T113646Z
LAST-MODIFIED:20241118T103914Z
UID:2448-1734109200-1734120000@splintergroup.org.uk
SUMMARY:SpLinter monthly get together
DESCRIPTION:Come and join us from 5pm till 8pm. We will be playing some games\, doing a quiz\, listening to music and sharing some food. Everyone welcome. You need to make your own way there is you can and we will support you to get home safely. If you need any more info just ring 07775 817544. \nLocation: Cramlington base \nMore details coming soon. The location for the next monthly is our Cramlington base.
URL:https://splintergroup.org.uk/event/splinter-monthly-get-together/
LOCATION:Cramlington Hub\, Cramlington
CATEGORIES:Board games,Monthly Social,SpLinter Group
END:VEVENT
BEGIN:VEVENT
DTSTART;TZID=UTC:20241108T170000
DTEND;TZID=UTC:20241108T200000
DTSTAMP:20260424T105527
CREATED:20240916T140649Z
LAST-MODIFIED:20240918T132749Z
UID:2335-1731085200-1731096000@splintergroup.org.uk
SUMMARY:Spooky Theme
DESCRIPTION:Halloween Disco (TBC) & Completion of the crafts activity for Halloween organised by John Craggs. More details coming soon! \nYou need to make your own way there if you can and we will support you to get home safely. If you need any more info just ring 07775 817544. \nWe are going to be back at our Cramlington Hub for this monthly get-together. \n \n  \n 
URL:https://splintergroup.org.uk/event/spooky-theme/
LOCATION:Cramlington Hub\, Cramlington
CATEGORIES:Monthly Social,Social get together,SpLinter Group
END:VEVENT
BEGIN:VEVENT
DTSTART;TZID=UTC:20240927T170000
DTEND;TZID=UTC:20240927T200000
DTSTAMP:20260424T105527
CREATED:20240916T134355Z
LAST-MODIFIED:20240916T134931Z
UID:2324-1727456400-1727467200@splintergroup.org.uk
SUMMARY:Snakes & Ladders & Me
DESCRIPTION:SpLinter Games Evening & Crafts Activity for Halloween organised by John Craggs.  \nMore details coming soon! \nYou will need to make your own way there is you can and we will support you to get home safely. If you need any more info just ring 07775 817544. \n 
URL:https://splintergroup.org.uk/event/snakes-ladders-me/
LOCATION:Cramlington Hub\, Cramlington
CATEGORIES:Board games,Monthly Social,Social get together,SpLinter Group
END:VEVENT
BEGIN:VEVENT
DTSTART;TZID=UTC:20240830T170000
DTEND;TZID=UTC:20240830T200000
DTSTAMP:20260424T105527
CREATED:20240822T222132Z
LAST-MODIFIED:20240822T222132Z
UID:2189-1725037200-1725048000@splintergroup.org.uk
SUMMARY:SpLinter Group Social Night for August
DESCRIPTION:Come and join us from 5pm till 8pm. We will be playing some games\, doing a quiz\, listening to music and sharing some food. Everyone welcome. You need to make your own way there is you can and we will support you to get home safely. If you need any more info just ring 07775 817544
URL:https://splintergroup.org.uk/event/splinter-group-social-night-for-august/
LOCATION:SpLinter Hub\, Kingdom Hall\, Wagonway Road\, Alnwick\, Northumberland\, NE66 1QQ\, United Kingdom
CATEGORIES:Board games,Monthly Social,Quiz,Social get together,SpLinter Group,Video Gaming
END:VEVENT
BEGIN:VEVENT
DTSTART;TZID=UTC:20240712T060000
DTEND;TZID=UTC:20240712T200000
DTSTAMP:20260424T105527
CREATED:20240527T175815Z
LAST-MODIFIED:20240527T175815Z
UID:1797-1720764000-1720814400@splintergroup.org.uk
SUMMARY:SpLinter Group's Monthly Social for July
DESCRIPTION:This month the games night will include both board games and video games. More details coming soon. \n 
URL:https://splintergroup.org.uk/event/splinter-groups-monthly-social-for-july/
LOCATION:Cramlington Hub\, Cramlington
CATEGORIES:Board games,Monthly Social,SpLinter Group,Video Gaming
ATTACH;FMTTYPE=image/jpeg:https://splintergroup.org.uk/wp-content/uploads/2024/05/zyx1bk9mqma.jpg
END:VEVENT
BEGIN:VEVENT
DTSTART;TZID=UTC:20240524T060000
DTEND;TZID=UTC:20240524T203000
DTSTAMP:20260424T105527
CREATED:20240508T224555Z
LAST-MODIFIED:20240519T232600Z
UID:1603-1716530400-1716582600@splintergroup.org.uk
SUMMARY:May's Friday get-together
DESCRIPTION:This month we will be trying out a different space for our monthly gathering\, at the Blyth Family Hub. We are planning to build more links with Family Hubs across the county so we can enable people to meet up in a range of venues. \nThis session will include video and board games and we will be making some food ourselves… \n 
URL:https://splintergroup.org.uk/event/mays-friday-get-together/
LOCATION:Blyth Central Family Hub\, 103 Wright St\,\, Blyth\, NE24 1HG
CATEGORIES:Board games,Monthly Social,SpLinter Group,Video Gaming
END:VEVENT
BEGIN:VEVENT
DTSTART;TZID=UTC:20240505T183000
DTEND;TZID=UTC:20240505T200000
DTSTAMP:20260424T105527
CREATED:20240429T231049Z
LAST-MODIFIED:20240501T084013Z
UID:1516-1714933800-1714939200@splintergroup.org.uk
SUMMARY:SpLinter Online Games Night (Eurovision Clip Quiz Special)
DESCRIPTION:Dennis hosts his annual Eurovision quiz for SpLinter. \nDennis plays hilarious out-of-context clips and you guess the year\, country and if it won or not. \nIt’s fun even if you don’t know anything about the subject. (Everyone is guessing anyway).
URL:https://splintergroup.org.uk/event/splinter-games-night/
LOCATION:Online
CATEGORIES:Monthly Social,Online get-together,Quiz,SpLinter Group
ATTACH;FMTTYPE=image/png:https://splintergroup.org.uk/wp-content/uploads/2024/04/Gengis-Khan.png
END:VEVENT
BEGIN:VEVENT
DTSTART;TZID=UTC:20240426T170000
DTEND;TZID=UTC:20240426T200000
DTSTAMP:20260424T105527
CREATED:20240209T202651Z
LAST-MODIFIED:20240420T230000Z
UID:1280-1714150800-1714161600@splintergroup.org.uk
SUMMARY:SpLinter's Monthly Games Night for April
DESCRIPTION:This month the games night will include both board games and video games and will also feature a Quiz called ‘The Wheel of Enormous Dimensions’ – should be fun. There may be a bus strike so we will check that out and organise other tranpsort so everyone who wants to can come. There’ll be a buffet and drinks too.
URL:https://splintergroup.org.uk/event/splinter-monthly-games-night/
LOCATION:Northumberland
CATEGORIES:Board games,Monthly Social,Quiz,SpLinter Group,Video Gaming
END:VEVENT
BEGIN:VEVENT
DTSTART;TZID=UTC:20240202T123000
DTEND;TZID=UTC:20240202T150000
DTSTAMP:20260424T105527
CREATED:20240122T151057Z
LAST-MODIFIED:20240129T143138Z
UID:1053-1706877000-1706886000@splintergroup.org.uk
SUMMARY:The SpLinter Sisters South Meal
DESCRIPTION:The SpLinter Sisters South are planning to have an evening meal together. We are looking forward to seeing you all there. \nPlease contact us for further information regarding this event and also keep a watch out on our Facebook page as well.
URL:https://splintergroup.org.uk/event/the-splinter-sisters-south-meal/
LOCATION:Northumberland
CATEGORIES:Monthly Social,SpLinter Sisters
ATTACH;FMTTYPE=image/jpeg:https://splintergroup.org.uk/wp-content/uploads/2024/01/afzg83dvnai-e1705936121763.jpg
END:VEVENT
BEGIN:VEVENT
DTSTART;TZID=UTC:20240201T183000
DTEND;TZID=UTC:20240201T200000
DTSTAMP:20260424T105527
CREATED:20240122T150934Z
LAST-MODIFIED:20240129T142800Z
UID:1050-1706812200-1706817600@splintergroup.org.uk
SUMMARY:SpLinter Sister North Meal
DESCRIPTION:The SpLinter Sisters North are planning to have an evening meal together. We are looking forward to seeing you all there. \nPlease contact us for further information regarding this event and also keep a watch out on our Facebook page as well.
URL:https://splintergroup.org.uk/event/splinter-sister-north-meal/
LOCATION:Northumberland
CATEGORIES:Monthly Social,SpLinter Sisters
ATTACH;FMTTYPE=image/jpeg:https://splintergroup.org.uk/wp-content/uploads/2024/01/afzg83dvnai-e1705936121763.jpg
END:VEVENT
BEGIN:VEVENT
DTSTART;TZID=UTC:20240122T080000
DTEND;TZID=UTC:20240122T170000
DTSTAMP:20260424T105527
CREATED:20240122T150420Z
LAST-MODIFIED:20240122T150420Z
UID:1045-1705910400-1705942800@splintergroup.org.uk
SUMMARY:SpLinter Games Evening
DESCRIPTION:Join us this Friday  at the hub in Cramlington for a fun evening filled with gaming.  Everyone is welcome to take part in playing video games or board games. Looking forward to seeing you all there! \nFor further information please get in contact with us here and and also keep a watch out on our Facebook page as well.
URL:https://splintergroup.org.uk/event/splinter-games-evening/
LOCATION:Northumberland
CATEGORIES:Monthly Social,SpLinter Group
ATTACH;FMTTYPE=image/jpeg:https://splintergroup.org.uk/wp-content/uploads/2024/01/ecktzgjc-iu-e1705935840226.jpg
END:VEVENT
BEGIN:VEVENT
DTSTART;TZID=UTC:20240119T170000
DTEND;TZID=UTC:20240119T200000
DTSTAMP:20260424T105527
CREATED:20240115T112257Z
LAST-MODIFIED:20240122T145926Z
UID:954-1705683600-1705694400@splintergroup.org.uk
SUMMARY:Board Games Evening
DESCRIPTION:Join us this Friday  at the hub in Cramlington where Lucy is hosting a board games evening.  Everyone is welcome to take part in playing board games or card games. Looking forward to seeing you all there! \nFor further information please get in contact with us here and and also keep a watch out on our Facebook page as well.
URL:https://splintergroup.org.uk/event/board-games-evening/
LOCATION:Cramlington Hub\, Cramlington
CATEGORIES:Monthly Social,SpLinter Group
ATTACH;FMTTYPE=image/jpeg:https://splintergroup.org.uk/wp-content/uploads/2024/01/0n7_eiaqzwa-e1705319780510.jpg
END:VEVENT
BEGIN:VEVENT
DTSTART;TZID=UTC:20231215T170000
DTEND;TZID=UTC:20231215T190000
DTSTAMP:20260424T105527
CREATED:20231209T173042Z
LAST-MODIFIED:20231209T173434Z
UID:912-1702659600-1702666800@splintergroup.org.uk
SUMMARY:SpLinter Festive Special
DESCRIPTION:SpLinter Group is planning a Christmas get together for all members to attend at the Cramlington Hub and will be accompanied with a meal afterwards. Further details coming soon! \nPlease contact us for further details and also keep a watch out on our Facebook page as well.
URL:https://splintergroup.org.uk/event/splinter-festive-special/
LOCATION:Cramlington Hub\, Cramlington
CATEGORIES:Monthly Social,SpLinter Group,Waffling On
ATTACH;FMTTYPE=image/jpeg:https://splintergroup.org.uk/wp-content/uploads/2023/12/5aiwn2u10cw-e1702143135128.jpg
END:VEVENT
BEGIN:VEVENT
DTSTART;TZID=UTC:20231208T020000
DTEND;TZID=UTC:20231208T170000
DTSTAMP:20260424T105527
CREATED:20231209T170927Z
LAST-MODIFIED:20231209T172012Z
UID:904-1702000800-1702054800@splintergroup.org.uk
SUMMARY:SpLinter Sisters Christmas Afternoon Tea
DESCRIPTION:The SpLinter Sisters are planning a Christmas get together at Mr Ridley’s Ice Cream Parlour for afternoon tea. We are looking forward to seeing you all there. \nPlease contact us for further information regarding this event.
URL:https://splintergroup.org.uk/event/splinter-sisters-christmas-afternoon-tea/
LOCATION:Mr Ridley Ice Cream Parlour\, 9 Park View\, Blyth\, Northumberland\, NE24 3AY\, United Kingdom
CATEGORIES:Monthly Social,SpLinter Sisters
ATTACH;FMTTYPE=image/jpeg:https://splintergroup.org.uk/wp-content/uploads/2023/12/IMG_2109-scaled-e1702142355572.jpg
END:VEVENT
BEGIN:VEVENT
DTSTART;TZID=UTC:20231129T190000
DTEND;TZID=UTC:20231129T210000
DTSTAMP:20260424T105527
CREATED:20231030T141914Z
LAST-MODIFIED:20231209T155712Z
UID:773-1701284400-1701291600@splintergroup.org.uk
SUMMARY:Bigger on the Inside: Dr Who and Neurodiversity
DESCRIPTION:On November the 29th SpLinter is planning a trip to watch a performance of the Bigger on the Inside: Dr Who and Neurodiversity at the Lit & Phil in Newcastle. The performance is carried out by the stand up poet Kate Fox who will reprise her stand up spoken word theatre show Bigger on the Inside through a special event for sixtieth anniversary of Doctor Who. \nIn this funny\, poignant\, thought-provoking show\, she interweaves the history of Dr Who\, neurodivergent conditions including autism and ADHD\, and her own late-diagnosis as a neurodivergent adult.
URL:https://splintergroup.org.uk/event/bigger-on-the-inside-dr-who-and-neurodiversity/
LOCATION:The Lit & Phil\, 23 Westgate Rd\, Newcastle upon Tyne\, Tyneside\, NE1 1SE\, United Kingdom
CATEGORIES:Monthly Social
ATTACH;FMTTYPE=image/jpeg:https://splintergroup.org.uk/wp-content/uploads/2023/10/clnyucbxxxi-1.jpg
END:VEVENT
BEGIN:VEVENT
DTSTART;TZID=UTC:20231103T170000
DTEND;TZID=UTC:20231103T200000
DTSTAMP:20260424T105527
CREATED:20231030T134231Z
LAST-MODIFIED:20231031T075416Z
UID:769-1699030800-1699041600@splintergroup.org.uk
SUMMARY:Halloween special
DESCRIPTION:Spooky quiz\, Cluedo tournament & Grand finale of Song quest on the theme of mystery! \n \n  \n  \n  \n  \n  \n 
URL:https://splintergroup.org.uk/event/halloween-special/
LOCATION:SpLinter Hub\, Kingdom Hall\, Wagonway Road\, Alnwick\, Northumberland\, NE66 1QQ\, United Kingdom
CATEGORIES:Monthly Social
ATTACH;FMTTYPE=image/jpeg:https://splintergroup.org.uk/wp-content/uploads/2023/10/eboxjfgges0.jpg
END:VEVENT
END:VCALENDAR