BEGIN:VCALENDAR
VERSION:2.0
PRODID:-//SpLinter Group - ECPv6.15.20//NONSGML v1.0//EN
CALSCALE:GREGORIAN
METHOD:PUBLISH
X-WR-CALNAME:SpLinter Group
X-ORIGINAL-URL:https://splintergroup.org.uk
X-WR-CALDESC:Events for SpLinter Group
REFRESH-INTERVAL;VALUE=DURATION:PT1H
X-Robots-Tag:noindex
X-PUBLISHED-TTL:PT1H
BEGIN:VTIMEZONE
TZID:UTC
BEGIN:STANDARD
TZOFFSETFROM:+0000
TZOFFSETTO:+0000
TZNAME:UTC
DTSTART:20250101T000000
END:STANDARD
END:VTIMEZONE
BEGIN:VEVENT
DTSTART;TZID=UTC:20260418T130000
DTEND;TZID=UTC:20260418T160000
DTSTAMP:20260420T081105
CREATED:20260415T181621Z
LAST-MODIFIED:20260415T181621Z
UID:3577-1776517200-1776528000@splintergroup.org.uk
SUMMARY:New for Spring: Our First Crafty and Gaming Drop-in at the SpLinter hub!
DESCRIPTION:On Saturday\, 18th April come and join our first Crafty and Gaming Drop-in at the SpLinter hub from 1-4pm. We will be playing some board games\, playing video games and getting crafty! We also have Point A drop-in sessions taking place for anyone who needs help to find the information or support. Everyone welcome to come along and get involved with our first drop-in session at the hub! \nLocation: SpLinter Hub \nDate: Saturday\, 18th April \nTime: 1-4pm
URL:https://splintergroup.org.uk/event/new-for-spring-our-first-crafty-and-gaming-drop-in-at-the-splinter-hub/
LOCATION:SpLinter Hub\, Kingdom Hall\, Wagonway Road\, Alnwick\, Northumberland\, NE66 1QQ\, United Kingdom
CATEGORIES:Advocacy Network,Info stall,Social get together,Splinter Group Team,Wellbeing
END:VEVENT
END:VCALENDAR