BEGIN:VCALENDAR
VERSION:2.0
PRODID:-//SpLinter Group - ECPv6.15.20//NONSGML v1.0//EN
CALSCALE:GREGORIAN
METHOD:PUBLISH
X-WR-CALNAME:SpLinter Group
X-ORIGINAL-URL:https://splintergroup.org.uk
X-WR-CALDESC:Events for SpLinter Group
REFRESH-INTERVAL;VALUE=DURATION:PT1H
X-Robots-Tag:noindex
X-PUBLISHED-TTL:PT1H
BEGIN:VTIMEZONE
TZID:UTC
BEGIN:STANDARD
TZOFFSETFROM:+0000
TZOFFSETTO:+0000
TZNAME:UTC
DTSTART:20250101T000000
END:STANDARD
END:VTIMEZONE
BEGIN:VEVENT
DTSTART;TZID=UTC:20260326T100000
DTEND;TZID=UTC:20260326T233000
DTSTAMP:20260422T200226
CREATED:20251027T142238Z
LAST-MODIFIED:20251110T111051Z
UID:3222-1774519200-1774567800@splintergroup.org.uk
SUMMARY:Gibson Cup @ Blyth Sports Centre
DESCRIPTION:Blyth Sports Centre are hosting the Gibson Cup 🏆with the goal for SEND groups to get involved with this football ⚽ tournament. The final fixture is taking place on the Thursday\, 26th March at 10:15 am. \nTime: 10:15 am \nDate: Thursday\, 26th March \nLocation: Blyth Sports Centre
URL:https://splintergroup.org.uk/event/gibson-cup-blythe-sports-centre/
LOCATION:Blythe Sports Centre\, Sports Centre\, Blyth\, NE24 5BT
CATEGORIES:Wellbeing
END:VEVENT
END:VCALENDAR