BEGIN:VCALENDAR
VERSION:2.0
PRODID:-//SpLinter Group - ECPv6.15.20//NONSGML v1.0//EN
CALSCALE:GREGORIAN
METHOD:PUBLISH
X-ORIGINAL-URL:https://splintergroup.org.uk
X-WR-CALDESC:Events for SpLinter Group
REFRESH-INTERVAL;VALUE=DURATION:PT1H
X-Robots-Tag:noindex
X-PUBLISHED-TTL:PT1H
BEGIN:VTIMEZONE
TZID:UTC
BEGIN:STANDARD
TZOFFSETFROM:+0000
TZOFFSETTO:+0000
TZNAME:UTC
DTSTART:20250101T000000
END:STANDARD
END:VTIMEZONE
BEGIN:VEVENT
DTSTART;TZID=UTC:20260317T093000
DTEND;TZID=UTC:20260317T130000
DTSTAMP:20260424T103728
CREATED:20260314T121006Z
LAST-MODIFIED:20260314T121147Z
UID:3499-1773739800-1773752400@splintergroup.org.uk
SUMMARY:Waffling On Joins Work Smart Live Well Stall
DESCRIPTION:We are pleased to be joining an information stall at the Cramlington Community Hub to showcase what Waffling On does and what we can offer to people looking for work. \nThis event occurs once a week with a variety of different organisations attending as well. Waffling On will potentially be reattending this event again in April. \nPlease contact us for further details if you want to get involved.
URL:https://splintergroup.org.uk/event/waffling-on-joins-work-smart-live-well-stall/
LOCATION:Cramlington Community Hub\, Retail Park\, Manor Walks Shopping Centre\, Cramlington\, Northumberland\, NE23 6YB\, United Kingdom
CATEGORIES:Advocacy Network,Conference,Info stall,Wellbeing
END:VEVENT
END:VCALENDAR